BEGIN:VCALENDAR
VERSION:2.0
PRODID:-//Stichting Stadsmuziek Rijssen - ECPv6.15.20//NONSGML v1.0//EN
CALSCALE:GREGORIAN
METHOD:PUBLISH
X-ORIGINAL-URL:https://stadsmuziekrijssen.nl
X-WR-CALDESC:Evenementen voor Stichting Stadsmuziek Rijssen
REFRESH-INTERVAL;VALUE=DURATION:PT1H
X-Robots-Tag:noindex
X-PUBLISHED-TTL:PT1H
BEGIN:VTIMEZONE
TZID:Europe/Amsterdam
BEGIN:DAYLIGHT
TZOFFSETFROM:+0100
TZOFFSETTO:+0200
TZNAME:CEST
DTSTART:20190331T010000
END:DAYLIGHT
BEGIN:STANDARD
TZOFFSETFROM:+0200
TZOFFSETTO:+0100
TZNAME:CET
DTSTART:20191027T010000
END:STANDARD
BEGIN:DAYLIGHT
TZOFFSETFROM:+0100
TZOFFSETTO:+0200
TZNAME:CEST
DTSTART:20200329T010000
END:DAYLIGHT
BEGIN:STANDARD
TZOFFSETFROM:+0200
TZOFFSETTO:+0100
TZNAME:CET
DTSTART:20201025T010000
END:STANDARD
BEGIN:DAYLIGHT
TZOFFSETFROM:+0100
TZOFFSETTO:+0200
TZNAME:CEST
DTSTART:20210328T010000
END:DAYLIGHT
BEGIN:STANDARD
TZOFFSETFROM:+0200
TZOFFSETTO:+0100
TZNAME:CET
DTSTART:20211031T010000
END:STANDARD
END:VTIMEZONE
BEGIN:VEVENT
DTSTART;TZID=Europe/Amsterdam:20200201T150000
DTEND;TZID=Europe/Amsterdam:20200201T160000
DTSTAMP:20260421T120247
CREATED:20200102T214523Z
LAST-MODIFIED:20200102T215005Z
UID:1285-1580569200-1580572800@stadsmuziekrijssen.nl
SUMMARY:Presentatie Doe-orgel
DESCRIPTION:Het Doe-orgel is een nieuwe activiteit van de Stichting Stadsmuziek. We willen dit graag presenteren tijdens een informeel concertje op zaterdagmiddag. Wethouder Ben Beens verricht de openingshandeling: hij plaatst het laatste pijpje in het Doe-orgel\, en daarna kan er gespeeld worden. Aan het concert wordt meegewerkt door beiaardier Jan-Geert Heuvelman\, stadsorganist Dick Sanderman en leerlingen van de Muziekschool Rijssen.Beens
URL:https://stadsmuziekrijssen.nl/concertagenda/presentatie-doe-orgel/
LOCATION:Gemeentehuis Rijssen\, Schild 1\, Rijssen\, 7461 DD\, Nederland
CATEGORIES:Doe-orgel,Orgel
ATTACH;FMTTYPE=image/jpeg:https://stadsmuziekrijssen.nl/wp-content/uploads/2019/12/08-20191227-22-27-12-2019-17-34-35-1024x768-1.jpg
ORGANIZER;CN="Dick Sanderman":MAILTO:orgel@stadsmuziekrijssen.nl
END:VEVENT
END:VCALENDAR