BEGIN:VCALENDAR
VERSION:2.0
PRODID:-//Stichting Stadsmuziek Rijssen - ECPv6.15.20//NONSGML v1.0//EN
CALSCALE:GREGORIAN
METHOD:PUBLISH
X-ORIGINAL-URL:https://stadsmuziekrijssen.nl
X-WR-CALDESC:Evenementen voor Stichting Stadsmuziek Rijssen
REFRESH-INTERVAL;VALUE=DURATION:PT1H
X-Robots-Tag:noindex
X-PUBLISHED-TTL:PT1H
BEGIN:VTIMEZONE
TZID:Europe/Amsterdam
BEGIN:DAYLIGHT
TZOFFSETFROM:+0100
TZOFFSETTO:+0200
TZNAME:CEST
DTSTART:20230326T010000
END:DAYLIGHT
BEGIN:STANDARD
TZOFFSETFROM:+0200
TZOFFSETTO:+0100
TZNAME:CET
DTSTART:20231029T010000
END:STANDARD
BEGIN:DAYLIGHT
TZOFFSETFROM:+0100
TZOFFSETTO:+0200
TZNAME:CEST
DTSTART:20240331T010000
END:DAYLIGHT
BEGIN:STANDARD
TZOFFSETFROM:+0200
TZOFFSETTO:+0100
TZNAME:CET
DTSTART:20241027T010000
END:STANDARD
BEGIN:DAYLIGHT
TZOFFSETFROM:+0100
TZOFFSETTO:+0200
TZNAME:CEST
DTSTART:20250330T010000
END:DAYLIGHT
BEGIN:STANDARD
TZOFFSETFROM:+0200
TZOFFSETTO:+0100
TZNAME:CET
DTSTART:20251026T010000
END:STANDARD
END:VTIMEZONE
BEGIN:VEVENT
DTSTART;TZID=Europe/Amsterdam:20241123T150000
DTEND;TZID=Europe/Amsterdam:20241123T163000
DTSTAMP:20260419T190532
CREATED:20240113T161429Z
LAST-MODIFIED:20240926T151936Z
UID:1579-1732374000-1732379400@stadsmuziekrijssen.nl
SUMMARY:Jong talent-concert
DESCRIPTION:
URL:https://stadsmuziekrijssen.nl/concertagenda/jong-talent-concert/
LOCATION:Gemeentehuis Rijssen\, Schild 1\, Rijssen\, 7461 DD\, Nederland
CATEGORIES:Jong talent
ATTACH;FMTTYPE=image/jpeg:https://stadsmuziekrijssen.nl/wp-content/uploads/2023/11/1-alle-spelers.jpg
END:VEVENT
END:VCALENDAR