BEGIN:VCALENDAR
VERSION:2.0
PRODID:-//Stichting Stadsmuziek Rijssen - ECPv6.15.20//NONSGML v1.0//EN
CALSCALE:GREGORIAN
METHOD:PUBLISH
X-WR-CALNAME:Stichting Stadsmuziek Rijssen
X-ORIGINAL-URL:https://stadsmuziekrijssen.nl
X-WR-CALDESC:Evenementen voor Stichting Stadsmuziek Rijssen
REFRESH-INTERVAL;VALUE=DURATION:PT1H
X-Robots-Tag:noindex
X-PUBLISHED-TTL:PT1H
BEGIN:VTIMEZONE
TZID:Europe/Amsterdam
BEGIN:DAYLIGHT
TZOFFSETFROM:+0100
TZOFFSETTO:+0200
TZNAME:CEST
DTSTART:20230326T010000
END:DAYLIGHT
BEGIN:STANDARD
TZOFFSETFROM:+0200
TZOFFSETTO:+0100
TZNAME:CET
DTSTART:20231029T010000
END:STANDARD
BEGIN:DAYLIGHT
TZOFFSETFROM:+0100
TZOFFSETTO:+0200
TZNAME:CEST
DTSTART:20240331T010000
END:DAYLIGHT
BEGIN:STANDARD
TZOFFSETFROM:+0200
TZOFFSETTO:+0100
TZNAME:CET
DTSTART:20241027T010000
END:STANDARD
BEGIN:DAYLIGHT
TZOFFSETFROM:+0100
TZOFFSETTO:+0200
TZNAME:CEST
DTSTART:20250330T010000
END:DAYLIGHT
BEGIN:STANDARD
TZOFFSETFROM:+0200
TZOFFSETTO:+0100
TZNAME:CET
DTSTART:20251026T010000
END:STANDARD
END:VTIMEZONE
BEGIN:VEVENT
DTSTART;TZID=Europe/Amsterdam:20241010T200000
DTEND;TZID=Europe/Amsterdam:20241010T210000
DTSTAMP:20260419T095946
CREATED:20240113T160903Z
LAST-MODIFIED:20240415T133553Z
UID:1576-1728590400-1728594000@stadsmuziekrijssen.nl
SUMMARY:Ensembles van de Muziekschool Rijssen e.o.
DESCRIPTION:
URL:https://stadsmuziekrijssen.nl/concertagenda/ensembles-van-de-muziekschool-rijssen-e-o/
LOCATION:Gemeentehuis Rijssen\, Schild 1\, Rijssen\, 7461 DD\, Nederland
CATEGORIES:ensemble
ATTACH;FMTTYPE=image/jpeg:https://stadsmuziekrijssen.nl/wp-content/uploads/2018/06/02aqualaura20180607-1024x768.jpg
END:VEVENT
BEGIN:VEVENT
DTSTART;TZID=Europe/Amsterdam:20241019T150000
DTEND;TZID=Europe/Amsterdam:20241019T170000
DTSTAMP:20260419T095946
CREATED:20240113T161112Z
LAST-MODIFIED:20240113T161112Z
UID:1577-1729350000-1729357200@stadsmuziekrijssen.nl
SUMMARY:Jaarlijkse orgel- en beiaardwandeling
DESCRIPTION:
URL:https://stadsmuziekrijssen.nl/concertagenda/jaarlijkse-orgel-en-beiaardwandeling/
LOCATION:Brusselzaal\, Schildkerk en Dionysiuskerk
CATEGORIES:Orgel- en beiaardwandeling
ATTACH;FMTTYPE=image/jpeg:https://stadsmuziekrijssen.nl/wp-content/uploads/2023/10/01.bmp-1.jpg
END:VEVENT
END:VCALENDAR