BEGIN:VCALENDAR
VERSION:2.0
PRODID:-//Stichting Stadsmuziek Rijssen - ECPv6.15.20//NONSGML v1.0//EN
CALSCALE:GREGORIAN
METHOD:PUBLISH
X-WR-CALNAME:Stichting Stadsmuziek Rijssen
X-ORIGINAL-URL:https://stadsmuziekrijssen.nl
X-WR-CALDESC:Evenementen voor Stichting Stadsmuziek Rijssen
REFRESH-INTERVAL;VALUE=DURATION:PT1H
X-Robots-Tag:noindex
X-PUBLISHED-TTL:PT1H
BEGIN:VTIMEZONE
TZID:Europe/Amsterdam
BEGIN:DAYLIGHT
TZOFFSETFROM:+0100
TZOFFSETTO:+0200
TZNAME:CEST
DTSTART:20230326T010000
END:DAYLIGHT
BEGIN:STANDARD
TZOFFSETFROM:+0200
TZOFFSETTO:+0100
TZNAME:CET
DTSTART:20231029T010000
END:STANDARD
BEGIN:DAYLIGHT
TZOFFSETFROM:+0100
TZOFFSETTO:+0200
TZNAME:CEST
DTSTART:20240331T010000
END:DAYLIGHT
BEGIN:STANDARD
TZOFFSETFROM:+0200
TZOFFSETTO:+0100
TZNAME:CET
DTSTART:20241027T010000
END:STANDARD
BEGIN:DAYLIGHT
TZOFFSETFROM:+0100
TZOFFSETTO:+0200
TZNAME:CEST
DTSTART:20250330T010000
END:DAYLIGHT
BEGIN:STANDARD
TZOFFSETFROM:+0200
TZOFFSETTO:+0100
TZNAME:CET
DTSTART:20251026T010000
END:STANDARD
END:VTIMEZONE
BEGIN:VEVENT
DTSTART;TZID=Europe/Amsterdam:20240404T200000
DTEND;TZID=Europe/Amsterdam:20240404T210000
DTSTAMP:20260422T104801
CREATED:20240113T160054Z
LAST-MODIFIED:20240113T160054Z
UID:1573-1712260800-1712264400@stadsmuziekrijssen.nl
SUMMARY:Laura Troost (piano solo)
DESCRIPTION:
URL:https://stadsmuziekrijssen.nl/concertagenda/laura-troost-piano-solo/
CATEGORIES:Piano
ATTACH;FMTTYPE=image/jpeg:https://stadsmuziekrijssen.nl/wp-content/uploads/2018/06/04aqualaura20180607-0017-1024x768.jpg
END:VEVENT
BEGIN:VEVENT
DTSTART;TZID=Europe/Amsterdam:20240413T140000
DTEND;TZID=Europe/Amsterdam:20240413T150000
DTSTAMP:20260422T104801
CREATED:20240415T065644Z
LAST-MODIFIED:20240415T065644Z
UID:1610-1713016800-1713020400@stadsmuziekrijssen.nl
SUMMARY:Beiaardbespeling
DESCRIPTION:
URL:https://stadsmuziekrijssen.nl/concertagenda/beiaardbespeling-6/
CATEGORIES:Carillon
END:VEVENT
BEGIN:VEVENT
DTSTART;TZID=Europe/Amsterdam:20240420T103000
DTEND;TZID=Europe/Amsterdam:20240420T111500
DTSTAMP:20260422T104801
CREATED:20240415T070039Z
LAST-MODIFIED:20240415T070739Z
UID:1611-1713609000-1713611700@stadsmuziekrijssen.nl
SUMMARY:Twentse Beiaarddag met carillon\, koperblazers en piano
DESCRIPTION: 
URL:https://stadsmuziekrijssen.nl/concertagenda/twentse-beiaarddag/
LOCATION:Schildkerk Rijssen\, Schild 8\, Rijssen\, 7461 DD\, Nederland
ORGANIZER;CN="Jan-Geert Heuvelman":MAILTO:beiaard@stadsmuziekrijssen.nl
END:VEVENT
BEGIN:VEVENT
DTSTART;TZID=Europe/Amsterdam:20240427T140000
DTEND;TZID=Europe/Amsterdam:20240427T150000
DTSTAMP:20260422T104801
CREATED:20240415T070333Z
LAST-MODIFIED:20240415T070333Z
UID:1615-1714226400-1714230000@stadsmuziekrijssen.nl
SUMMARY:Beiaardbespeling op Koningsdag
DESCRIPTION:
URL:https://stadsmuziekrijssen.nl/concertagenda/beiaardbespeling-op-koningsdag/
LOCATION:Schildkerk Rijssen\, Schild 8\, Rijssen\, 7461 DD\, Nederland
END:VEVENT
END:VCALENDAR