BEGIN:VCALENDAR
VERSION:2.0
PRODID:-//Stichting Stadsmuziek Rijssen - ECPv6.15.20//NONSGML v1.0//EN
CALSCALE:GREGORIAN
METHOD:PUBLISH
X-WR-CALNAME:Stichting Stadsmuziek Rijssen
X-ORIGINAL-URL:https://stadsmuziekrijssen.nl
X-WR-CALDESC:Evenementen voor Stichting Stadsmuziek Rijssen
REFRESH-INTERVAL;VALUE=DURATION:PT1H
X-Robots-Tag:noindex
X-PUBLISHED-TTL:PT1H
BEGIN:VTIMEZONE
TZID:Europe/Amsterdam
BEGIN:DAYLIGHT
TZOFFSETFROM:+0100
TZOFFSETTO:+0200
TZNAME:CEST
DTSTART:20230326T010000
END:DAYLIGHT
BEGIN:STANDARD
TZOFFSETFROM:+0200
TZOFFSETTO:+0100
TZNAME:CET
DTSTART:20231029T010000
END:STANDARD
BEGIN:DAYLIGHT
TZOFFSETFROM:+0100
TZOFFSETTO:+0200
TZNAME:CEST
DTSTART:20240331T010000
END:DAYLIGHT
BEGIN:STANDARD
TZOFFSETFROM:+0200
TZOFFSETTO:+0100
TZNAME:CET
DTSTART:20241027T010000
END:STANDARD
BEGIN:DAYLIGHT
TZOFFSETFROM:+0100
TZOFFSETTO:+0200
TZNAME:CEST
DTSTART:20250330T010000
END:DAYLIGHT
BEGIN:STANDARD
TZOFFSETFROM:+0200
TZOFFSETTO:+0100
TZNAME:CET
DTSTART:20251026T010000
END:STANDARD
END:VTIMEZONE
BEGIN:VEVENT
DTSTART;TZID=Europe/Amsterdam:20240208T200000
DTEND;TZID=Europe/Amsterdam:20240208T210000
DTSTAMP:20260422T134017
CREATED:20240113T155808Z
LAST-MODIFIED:20240120T144547Z
UID:1571-1707422400-1707426000@stadsmuziekrijssen.nl
SUMMARY:Koor\, strijkers\, orgel en piano
DESCRIPTION:Jan-Geert Heuvelman (orgel en piano) m.m.v. leden van Vocaal Ensemble Rijssen en strijkers van het Van Lodenstein College Amersfoort
URL:https://stadsmuziekrijssen.nl/concertagenda/koor-strijkers-orgel-en-piano/
LOCATION:Gemeentehuis Rijssen\, Schild 1\, Rijssen\, 7461 DD\, Nederland
CATEGORIES:Koor + orgel
ATTACH;FMTTYPE=image/jpeg:https://stadsmuziekrijssen.nl/wp-content/uploads/2024/01/20240119_161037-dwars-scaled.jpg
END:VEVENT
BEGIN:VEVENT
DTSTART;TZID=Europe/Amsterdam:20240210T140000
DTEND;TZID=Europe/Amsterdam:20240210T150000
DTSTAMP:20260422T134017
CREATED:20240120T143709Z
LAST-MODIFIED:20240120T143709Z
UID:1580-1707573600-1707577200@stadsmuziekrijssen.nl
SUMMARY:Beiaardbespeling
DESCRIPTION:
URL:https://stadsmuziekrijssen.nl/concertagenda/beiaardbespeling/
LOCATION:Schildkerk Rijssen\, Schild 8\, Rijssen\, 7461 DD\, Nederland
END:VEVENT
BEGIN:VEVENT
DTSTART;TZID=Europe/Amsterdam:20240217T140000
DTEND;TZID=Europe/Amsterdam:20240217T150000
DTSTAMP:20260422T134017
CREATED:20240120T144014Z
LAST-MODIFIED:20240120T144014Z
UID:1581-1708178400-1708182000@stadsmuziekrijssen.nl
SUMMARY:Beiaardbespeling
DESCRIPTION:
URL:https://stadsmuziekrijssen.nl/concertagenda/beiaardbespeling-2/
LOCATION:Schildkerk Rijssen\, Schild 8\, Rijssen\, 7461 DD\, Nederland
END:VEVENT
END:VCALENDAR