BEGIN:VCALENDAR
VERSION:2.0
PRODID:-//Stichting Stadsmuziek Rijssen - ECPv6.15.20//NONSGML v1.0//EN
CALSCALE:GREGORIAN
METHOD:PUBLISH
X-WR-CALNAME:Stichting Stadsmuziek Rijssen
X-ORIGINAL-URL:https://stadsmuziekrijssen.nl
X-WR-CALDESC:Evenementen voor Stichting Stadsmuziek Rijssen
REFRESH-INTERVAL;VALUE=DURATION:PT1H
X-Robots-Tag:noindex
X-PUBLISHED-TTL:PT1H
BEGIN:VTIMEZONE
TZID:Europe/Amsterdam
BEGIN:DAYLIGHT
TZOFFSETFROM:+0100
TZOFFSETTO:+0200
TZNAME:CEST
DTSTART:20220327T010000
END:DAYLIGHT
BEGIN:STANDARD
TZOFFSETFROM:+0200
TZOFFSETTO:+0100
TZNAME:CET
DTSTART:20221030T010000
END:STANDARD
BEGIN:DAYLIGHT
TZOFFSETFROM:+0100
TZOFFSETTO:+0200
TZNAME:CEST
DTSTART:20230326T010000
END:DAYLIGHT
BEGIN:STANDARD
TZOFFSETFROM:+0200
TZOFFSETTO:+0100
TZNAME:CET
DTSTART:20231029T010000
END:STANDARD
BEGIN:DAYLIGHT
TZOFFSETFROM:+0100
TZOFFSETTO:+0200
TZNAME:CEST
DTSTART:20240331T010000
END:DAYLIGHT
BEGIN:STANDARD
TZOFFSETFROM:+0200
TZOFFSETTO:+0100
TZNAME:CET
DTSTART:20241027T010000
END:STANDARD
END:VTIMEZONE
BEGIN:VEVENT
DTSTART;TZID=Europe/Amsterdam:20231005T200000
DTEND;TZID=Europe/Amsterdam:20231005T210000
DTSTAMP:20260422T195845
CREATED:20231003T134219Z
LAST-MODIFIED:20231003T134219Z
UID:1531-1696536000-1696539600@stadsmuziekrijssen.nl
SUMMARY:Casper Struijk (orgel) en Maria de Jong (blokfluit)
DESCRIPTION:Orgel\, klavecimbel en blokfluit
URL:https://stadsmuziekrijssen.nl/concertagenda/casper-struijk-orgel-en-maria-de-jong-blokfluit/
LOCATION:Gemeentehuis Rijssen\, Schild 1\, Rijssen\, 7461 DD\, Nederland
CATEGORIES:orgel-plus
ATTACH;FMTTYPE=image/jpeg:https://stadsmuziekrijssen.nl/wp-content/uploads/2023/09/CMlandscape.jpg
END:VEVENT
BEGIN:VEVENT
DTSTART;TZID=Europe/Amsterdam:20231014T150000
DTEND;TZID=Europe/Amsterdam:20231014T170000
DTSTAMP:20260422T195846
CREATED:20231003T134447Z
LAST-MODIFIED:20231003T134447Z
UID:1532-1697295600-1697302800@stadsmuziekrijssen.nl
SUMMARY:Orgel- en beiaardwandeling 14 oktober
DESCRIPTION:15:00 Schildkerk \n15:40 Brusselzaal \n16:20 Dionysiuskerk
URL:https://stadsmuziekrijssen.nl/concertagenda/orgel-en-beiaardwandeling-14-oktober/
CATEGORIES:Orgel- en beiaardwandeling
ATTACH;FMTTYPE=image/jpeg:https://stadsmuziekrijssen.nl/wp-content/uploads/2017/07/Orgelwandeling-Rijssen.jpg
END:VEVENT
END:VCALENDAR