BEGIN:VCALENDAR
VERSION:2.0
PRODID:-//Stichting Stadsmuziek Rijssen - ECPv6.15.20//NONSGML v1.0//EN
CALSCALE:GREGORIAN
METHOD:PUBLISH
X-WR-CALNAME:Stichting Stadsmuziek Rijssen
X-ORIGINAL-URL:https://stadsmuziekrijssen.nl
X-WR-CALDESC:Evenementen voor Stichting Stadsmuziek Rijssen
REFRESH-INTERVAL;VALUE=DURATION:PT1H
X-Robots-Tag:noindex
X-PUBLISHED-TTL:PT1H
BEGIN:VTIMEZONE
TZID:Europe/Amsterdam
BEGIN:DAYLIGHT
TZOFFSETFROM:+0100
TZOFFSETTO:+0200
TZNAME:CEST
DTSTART:20210328T010000
END:DAYLIGHT
BEGIN:STANDARD
TZOFFSETFROM:+0200
TZOFFSETTO:+0100
TZNAME:CET
DTSTART:20211031T010000
END:STANDARD
BEGIN:DAYLIGHT
TZOFFSETFROM:+0100
TZOFFSETTO:+0200
TZNAME:CEST
DTSTART:20220327T010000
END:DAYLIGHT
BEGIN:STANDARD
TZOFFSETFROM:+0200
TZOFFSETTO:+0100
TZNAME:CET
DTSTART:20221030T010000
END:STANDARD
BEGIN:DAYLIGHT
TZOFFSETFROM:+0100
TZOFFSETTO:+0200
TZNAME:CEST
DTSTART:20230326T010000
END:DAYLIGHT
BEGIN:STANDARD
TZOFFSETFROM:+0200
TZOFFSETTO:+0100
TZNAME:CET
DTSTART:20231029T010000
END:STANDARD
END:VTIMEZONE
BEGIN:VEVENT
DTSTART;TZID=Europe/Amsterdam:20220428T200000
DTEND;TZID=Europe/Amsterdam:20220428T210000
DTSTAMP:20260425T232909
CREATED:20220324T180617Z
LAST-MODIFIED:20220324T180617Z
UID:1404-1651176000-1651179600@stadsmuziekrijssen.nl
SUMMARY:Kamerkoor Gloria o.l.v. Geert-Jan Schulenburg\, m.m.v. Alieke Timmerman en Annelon Schulenburg (dwarsfluit) en Dick Sanderman (orgel)
DESCRIPTION:-donderdag 28 april\, 20:00 uur: Kamerkoor Gloria o.l.v. Geert-Jan Schulenburg\, m.m.v. Alieke Timmerman en Annelon Schulenburg (dwarsfluit) en Dick Sanderman (orgel)\n\n-donderdag 9 juni\, 20:00 uur: Arend J. Kettelarij (orgel en piano) m.m.v. Anne Knappstein (cello)\n\n-zaterdag 24 september\, 15:00 uur: orgel- en beiaardwandeling (Brusselzaal\, Dionysiuskerk en Schildkerk) m.m.v. stadsorganist Dick Sanderman en beiaardier Jan-Geert Heuvelman\n\n-donderdag 3 november\, 20:00 uur: Duo Calyptura: Marlon Valk (saxofoon) en Jos Maters (orgel)\n\n-zaterdag 26 november\, 15:00 uur: Rijssens talent: de medewerkers aan de video’s van Stichting Stadsmuziek laten zich nu live horen
URL:https://stadsmuziekrijssen.nl/concertagenda/kamerkoor-gloria-o-l-v-geert-jan-schulenburg-m-m-v-alieke-timmerman-en-annelon-schulenburg-dwarsfluit-en-dick-sanderman-orgel/
LOCATION:Gemeentehuis Rijssen\, Schild 1\, Rijssen\, 7461 DD\, Nederland
CATEGORIES:Koor
ATTACH;FMTTYPE=image/jpeg:https://stadsmuziekrijssen.nl/wp-content/uploads/2022/03/62245492_2186810644766306_9219065142434594816_n.jpg
END:VEVENT
END:VCALENDAR